BEGIN:VCALENDAR
VERSION:2.0
PRODID:icalendar-ruby
CALSCALE:GREGORIAN
METHOD:PUBLISH
BEGIN:VEVENT
DTSTAMP:20260422T214753Z
UID:8-217087@1hopecc.church
DTSTART:20260920T153000Z
DTEND:20260920T170000Z
CLASS:PUBLIC
CREATED:20260422T152458
DESCRIPTION:\n\nWELCOME HOME\n\n\n\n\nJOIN US ON SUNDAY\nFELLOWSHIP 10:30 A
 M TO 11:00 AM\nWORSHIP SERVICE 11:00 AM TO NOON\n\n
LAST-MODIFIED:20260422T152458
LOCATION:12100 N Rockwell Ave UNIT 11 Oklahoma City\, OK 73162
SUMMARY:Sunday Morning Services
URL;VALUE=URI:https://1hopecc.church/events/sunday-morning-services/2026-09
 -20
ATTACH;FILENAME=One-Hope-Community-Church-Logo.jpg;FMTTYPE=image/jpeg:https
 ://dq5pwpg1q8ru0.cloudfront.net/2022/12/22/10/07/53/a9164092-4bac-4e69-8b7
 a-c5f179871974/One-Hope-Community-Church-Logo.jpg
END:VEVENT
END:VCALENDAR
